BEGIN:VCALENDAR
VERSION:2.0
CALSCALE:GREGORIAN
PRODID:adamgibbons/ics
METHOD:PUBLISH
X-PUBLISHED-TTL:PT1H
BEGIN:VEVENT
UID:907@events.rheinmain.social
SUMMARY:Queertreff Alzey
DTSTAMP:20260419T150428Z
DTSTART:20260422T163000Z
DTEND:20260422T190000Z
URL:https://events.rheinmain.social/event/queertreff-alzey-50
GEO:49.74441936292902;8.117660227424555
LOCATION:JuKu Alzey - Römerstraße 18\, 55232 Alzey
STATUS:CONFIRMED
CATEGORIES:Alzey,queer
END:VEVENT
END:VCALENDAR
