BEGIN:VCALENDAR
VERSION:2.0
CALSCALE:GREGORIAN
PRODID:adamgibbons/ics
METHOD:PUBLISH
X-PUBLISHED-TTL:PT1H
BEGIN:VEVENT
UID:912@events.rheinmain.social
SUMMARY:VoKü // Essen für Alle
DTSTAMP:20260421T083623Z
DTSTART:20260423T170000Z
DTEND:20260423T220000Z
URL:https://events.rheinmain.social/event/voku-essen-fur-alle-45
GEO:50.121669499999996;8.59949896485356
LOCATION:Au\, Frankfurt - In der Au 14-16\, Frankfurt
STATUS:CONFIRMED
CATEGORIES:Frankfurt,Küfa,Soupkitchen,VoKü,Volxküche
END:VEVENT
END:VCALENDAR
